BEGIN:VCALENDAR
VERSION:2.0
PRODID:-//Hosting Thoughts &amp; Reflections - ECPv6.15.20//NONSGML v1.0//EN
CALSCALE:GREGORIAN
METHOD:PUBLISH
X-WR-CALNAME:Hosting Thoughts &amp; Reflections
X-ORIGINAL-URL:https://ceo.hosting
X-WR-CALDESC:Events for Hosting Thoughts &amp; Reflections
REFRESH-INTERVAL;VALUE=DURATION:PT1H
X-Robots-Tag:noindex
X-PUBLISHED-TTL:PT1H
BEGIN:VTIMEZONE
TZID:Europe/London
BEGIN:DAYLIGHT
TZOFFSETFROM:+0000
TZOFFSETTO:+0100
TZNAME:BST
DTSTART:20250330T010000
END:DAYLIGHT
BEGIN:STANDARD
TZOFFSETFROM:+0100
TZOFFSETTO:+0000
TZNAME:GMT
DTSTART:20251026T010000
END:STANDARD
BEGIN:DAYLIGHT
TZOFFSETFROM:+0000
TZOFFSETTO:+0100
TZNAME:BST
DTSTART:20260329T010000
END:DAYLIGHT
BEGIN:STANDARD
TZOFFSETFROM:+0100
TZOFFSETTO:+0000
TZNAME:GMT
DTSTART:20261025T010000
END:STANDARD
BEGIN:DAYLIGHT
TZOFFSETFROM:+0000
TZOFFSETTO:+0100
TZNAME:BST
DTSTART:20270328T010000
END:DAYLIGHT
BEGIN:STANDARD
TZOFFSETFROM:+0100
TZOFFSETTO:+0000
TZNAME:GMT
DTSTART:20271031T010000
END:STANDARD
END:VTIMEZONE
BEGIN:VEVENT
DTSTART;VALUE=DATE:20260428
DTEND;VALUE=DATE:20260430
DTSTAMP:20260421T161849
CREATED:20260317T094934Z
LAST-MODIFIED:20260317T094934Z
UID:827-1777334400-1777507199@ceo.hosting
SUMMARY:ICANN Contracted Parties Summit
DESCRIPTION:Annual event for registrars and registries organized by ICANN.
URL:https://ceo.hosting/event/icann-contracted-parties-summit/
LOCATION:Kimpton Clocktower Hotel\, Oxford Street\, Manchester\, M60 7HA\, United Kingdom
CATEGORIES:Conferences
END:VEVENT
END:VCALENDAR